BEGIN:VCALENDAR
VERSION:2.0
PRODID:-//Save Our Beach - ECPv4.9.5//NONSGML v1.0//EN
CALSCALE:GREGORIAN
METHOD:PUBLISH
X-WR-CALNAME:Save Our Beach
X-ORIGINAL-URL:https://www.saveourbeach.org
X-WR-CALDESC:Events for Save Our Beach
BEGIN:VTIMEZONE
TZID:"UTC"
BEGIN:STANDARD
TZOFFSETFROM:+0000
TZOFFSETTO:+0000
TZNAME:UTC
DTSTART:20270101T000000
END:STANDARD
END:VTIMEZONE
BEGIN:VEVENT
DTSTART;VALUE=DATE:20270116
DTEND;VALUE=DATE:20270117
DTSTAMP:20260423T140347
CREATED:20190429T194611Z
LAST-MODIFIED:20260122T184000Z
UID:2534-1800057600-1800143999@www.saveourbeach.org
SUMMARY:Seal Beach Cleanup
DESCRIPTION:Saturday\, January 16\, 2027\n \nContact\nSave Our Beach Admin\nSave Our Beach\n562-844-1706\nstevemasoner@outlook.com \nRegister Here \n
URL:https://www.saveourbeach.org/event/seal-beach-cleanup-7/
CATEGORIES:events
ATTACH;FMTTYPE=image/jpeg:https://www.saveourbeach.org/wp-content/uploads/2019/03/Heart-shells.jpg
END:VEVENT
END:VCALENDAR